BEGIN:VCALENDAR
VERSION:2.0
PRODID:-//Actief Wenduine - Voor bezoekers, inwoners en handelaars van Wenduine en omstreken. - ECPv6.8.1//NONSGML v1.0//EN
CALSCALE:GREGORIAN
METHOD:PUBLISH
X-WR-CALNAME:Actief Wenduine - Voor bezoekers, inwoners en handelaars van Wenduine en omstreken.
X-ORIGINAL-URL:https://www.actief-wenduine.be
X-WR-CALDESC:Evenementen voor Actief Wenduine - Voor bezoekers, inwoners en handelaars van Wenduine en omstreken.
REFRESH-INTERVAL;VALUE=DURATION:PT1H
X-Robots-Tag:noindex
X-PUBLISHED-TTL:PT1H
BEGIN:VTIMEZONE
TZID:Europe/Brussels
BEGIN:DAYLIGHT
TZOFFSETFROM:+0100
TZOFFSETTO:+0200
TZNAME:CEST
DTSTART:20250330T010000
END:DAYLIGHT
BEGIN:STANDARD
TZOFFSETFROM:+0200
TZOFFSETTO:+0100
TZNAME:CET
DTSTART:20251026T010000
END:STANDARD
END:VTIMEZONE
BEGIN:VEVENT
DTSTART;TZID=Europe/Brussels:20250301T080000
DTEND;TZID=Europe/Brussels:20250421T170000
DTSTAMP:20260420T143324
CREATED:20250303T150849Z
LAST-MODIFIED:20250411T120423Z
UID:3484-1740816000-1745254800@www.actief-wenduine.be
SUMMARY:LENTEZOEKTOCHT
DESCRIPTION:Tussen 1 maart en 21 april kunt u uw kennis testen over bekende inwoners van Wenduine\, de kust en West-Vlaanderen.  Ontdek dingen over bekende Vlamingen die misschien nog niet wist.  En herken de cartoons van enkelen onder hen…  Inschrijvingsformulieren zijn te verkrijgen in het infokantoor\, hotel Les Mouettes en de Primavera… Niet alleen de beste resultaten worden beloond met een prijs\, maar ook zijn er 3 deelnameprijzen die worden getrokken op 22 april!
URL:https://www.actief-wenduine.be/evenement/3484/
LOCATION:Wenduine\, Wenduine\, Belgium
ATTACH;FMTTYPE=image/jpeg:https://www.actief-wenduine.be/wp-content/uploads/2025/03/DSCN9640-scaled.jpg
END:VEVENT
BEGIN:VEVENT
DTSTART;TZID=Europe/Brussels:20250301T080000
DTEND;TZID=Europe/Brussels:20250421T170000
DTSTAMP:20260420T143324
CREATED:20250410T201643Z
LAST-MODIFIED:20250411T120148Z
UID:3529-1740816000-1745254800@www.actief-wenduine.be
SUMMARY:Lente in Wenduine
DESCRIPTION:
URL:https://www.actief-wenduine.be/evenement/lente-in-wenduine/
LOCATION:West-Vlaanderen
ATTACH;FMTTYPE=image/jpeg:https://www.actief-wenduine.be/wp-content/uploads/2025/03/image00060-scaled.jpeg
END:VEVENT
BEGIN:VEVENT
DTSTART;TZID=Europe/Brussels:20250416T160000
DTEND;TZID=Europe/Brussels:20250416T233000
DTSTAMP:20260420T143324
CREATED:20250410T195811Z
LAST-MODIFIED:20250411T120306Z
UID:3523-1744819200-1744846200@www.actief-wenduine.be
SUMMARY:Fashion Night
DESCRIPTION:Woensdag 16 april gaat onze jaarlijkse Fashion Night door. \nModehandelaars vanuit Wenduine werken samen met nog enkele handelaars om er een succesvolle modeshow van te maken. \nVanaf 16u zijn onze eet en drankstandjes op de Rotonde open. \nVanaf 19u zijn de deuren van zaal Wielingen (hoofdingang) open. \nNa de modeshow kan je in de zaal gerust nog wat napraten met de deelnemende handelaars. Tot Dan!! \nFashion Days \nVan 17 tot 21 april kan je bij de handelaars de lente- en zomermode (die je ook kon bewonderen tijdens de modeshow) van dichtbij bekijken\, passen\, enz. \nMaak kennis met het prachtige aanbod en je bent he-le-maal klaar voor de zonnige dagen !
URL:https://www.actief-wenduine.be/evenement/fashion-night-fashion-weekend/
LOCATION:Wenduine\, Wenduine\, Belgium
ATTACH;FMTTYPE=image/jpeg:https://www.actief-wenduine.be/wp-content/uploads/2025/03/mode-hr-65-kopie-scaled.jpg
ORGANIZER;CN="Actief Wenduine":MAILTO:actiefwenduine@outlook.be
END:VEVENT
END:VCALENDAR