BEGIN:VCALENDAR
VERSION:2.0
PRODID:-//Actief Wenduine - Voor bezoekers, inwoners en handelaars van Wenduine en omstreken. - ECPv6.8.1//NONSGML v1.0//EN
CALSCALE:GREGORIAN
METHOD:PUBLISH
X-ORIGINAL-URL:https://www.actief-wenduine.be
X-WR-CALDESC:Evenementen voor Actief Wenduine - Voor bezoekers, inwoners en handelaars van Wenduine en omstreken.
REFRESH-INTERVAL;VALUE=DURATION:PT1H
X-Robots-Tag:noindex
X-PUBLISHED-TTL:PT1H
BEGIN:VTIMEZONE
TZID:Europe/Brussels
BEGIN:DAYLIGHT
TZOFFSETFROM:+0100
TZOFFSETTO:+0200
TZNAME:CEST
DTSTART:20250330T010000
END:DAYLIGHT
BEGIN:STANDARD
TZOFFSETFROM:+0200
TZOFFSETTO:+0100
TZNAME:CET
DTSTART:20251026T010000
END:STANDARD
END:VTIMEZONE
BEGIN:VEVENT
DTSTART;VALUE=DATE:20250607
DTEND;VALUE=DATE:20250609
DTSTAMP:20260420T161100
CREATED:20250507T130133Z
LAST-MODIFIED:20250507T130248Z
UID:3555-1749265200-1749351599@www.actief-wenduine.be
SUMMARY:Bierfestival Wenduine
DESCRIPTION:Bezoek de standjes van brouwerijen en proef hun verschillende biertjes! \nStart om 11u tot… met live optredens om 14 en 18u
URL:https://www.actief-wenduine.be/evenement/bierfestival-wenduine/
LOCATION:Markt Wenduine\, Markt\, Wenduine\, West-Vlaanderen\, 8420\, Belgium
ATTACH;FMTTYPE=image/png:https://www.actief-wenduine.be/wp-content/uploads/2025/05/zomerboekje-2-3.png
ORGANIZER;CN="Actief Wenduine":MAILTO:actiefwenduine@outlook.be
END:VEVENT
BEGIN:VEVENT
DTSTART;TZID=Europe/Brussels:20250608T110000
DTEND;TZID=Europe/Brussels:20250608T160000
DTSTAMP:20260420T161100
CREATED:20250507T125511Z
LAST-MODIFIED:20250507T125511Z
UID:3552-1749380400-1749398400@www.actief-wenduine.be
SUMMARY:Vaderdag met Actief Wenduine
DESCRIPTION:Op vaderdag\, 8 juni 2025\, trakteren Actief Wenduine en haar leden de papa’s op een Wenduins biertje! \nJe vindt de festiviteiten terug op het marktplein te Wenduine.
URL:https://www.actief-wenduine.be/evenement/vaderdag-met-actief-wenduine/
LOCATION:Markt Wenduine\, Markt\, Wenduine\, West-Vlaanderen\, 8420\, Belgium
ATTACH;FMTTYPE=image/png:https://www.actief-wenduine.be/wp-content/uploads/2025/05/zomerboekje-2-2.png
ORGANIZER;CN="Actief Wenduine":MAILTO:actiefwenduine@outlook.be
END:VEVENT
END:VCALENDAR